BEGIN:VCALENDAR
VERSION:2.0
PRODID:-//hacksw/handcal//NONSGML v1.0//EN
CALSCALE:GREGORIAN
BEGIN:VEVENT
DTEND;TZID=Europe/Zurich:20190124T210000
UID:1db282864eea55efc9a572d6ebc85a98
DTSTAMP:1776781922
LOCATION:ONLINE VIA ZOOM
ORGANIZER:Alumni Community of the FUSION-EP Master Program
DESCRIPTION:In the Stellarator W7-X, the neutral beam injection causes the loss of fast-ions on the wall. The direct consequences for the wall components are sputtering and heating. Both processes were investigated on the basis of previous simulations and possible diagnostic methods were investigated, which could be used to detect wall damage at an early stage. The focus was mainly on stainless steel wall panels. With the help of a finite element analysis, the resulting surface temperatures were determined taking into account heat radiation, evaporation, heat conduction and water cooling for heat flows of various intensities and duration. Accordingly limits of the pulse duration were determined, which are subjected to the panel specifications. A self-activating shutdown system due to excessive particle flow caused by evaporation before melting could not be found.
URL;VALUE=URI:https://fusionep-talks.egyplasma.com/calender/event.php?variableName=1db282864eea55efc9a572d6ebc85a98
SUMMARY:Effect of fast ion losses on the plasma facing components of W7X
DTSTART;TZID=Europe/Zurich:20190124T200000
END:VEVENT
END:VCALENDAR